BEGIN:VCALENDAR
VERSION:2.0
CALSCALE:GREGORIAN
PRODID:adamgibbons/ics
METHOD:PUBLISH
X-PUBLISHED-TTL:PT1H
BEGIN:VEVENT
UID:VktXnOeVIJvOG3ZGnaDc0
SUMMARY:TRASPIELAS
DTSTAMP:20260422T183011Z
DTSTART:20261231T203000Z
DESCRIPTION:**SU GARRIDO POMBO**\n\nMÚSICA · CICLO FIESTRA ABERTA\n\n**_Tra
	spielas_** é o novo proxecto de **Su Garrido Pombo** xunto con **Macarena 
	Montesinos** (cello)\,Iago Ramilo (saxo)\, **Marco Maril (**electrónica) e
	 **Fran Rodriguez Casal** (visuais) nos que celebran a memoria colectiva d
	unha aldea a través dunha obra musical\, poética e visual.  \nPartindo de 
	pezas tradicionais recollidas na aldea de Traspielas e proxecións con imax
	es actuais e de videoarquivo\, músicas de recoñecida traxectoria e de esti
	los diversos como a electrónica\, a experimentación e a música tradicional
	 conflúen para crear unha obra actual.  \nO obxectivo e dar nova vida a es
	tas cancións nunha proposta artística multidisciplinare contemporánea que 
	pon en valor a comunidade e a cultura popular dun territorio.  \nDespois d
	e participar nas Residencias Mariñán 2024\, foron proxecto seleccionado no
	 MUMI 2024 e Maré 2024 e están preparando a súa xira e gravación do seu no
	vo proxecto discográfico.
URL:https://www.compostelacultura.gal/espectaculos/evento/traspielas
LOCATION:Rúa Nova\, 21<br>\n15705 Santiago de Compostela
X-MICROSOFT-CDO-BUSYSTATUS:BUSY
DURATION:PT90M
END:VEVENT
END:VCALENDAR
