BEGIN:VCALENDAR
VERSION:2.0
CALSCALE:GREGORIAN
PRODID:adamgibbons/ics
METHOD:PUBLISH
X-PUBLISHED-TTL:PT1H
BEGIN:VEVENT
UID:OEJ3hp5aqV5KFcZctMOqx
SUMMARY:A ESTRELA MOSTRADA
DTSTAMP:20260422T183011Z
DTSTART:20261231T203000Z
DESCRIPTION:**PABLO SANMAMED**\n\nMÚSICA · CICLO FIESTRA ABERTA\n\nConcerto
	 de presentación do disco A estrela mostrada de Pablo Sanmamed.  \nUnha vi
	axe sonora entre o medieval e o contemporaneo. Logo do éxito de Ben vennas
	 Maio\, Pablo Sanmamed regresa con A Estrela Mostrada\, un novo proxecto q
	ue se editará en maio de 2026 e volve iluminar o diálogo entre a música an
	tiga e o jazz contemporáneo. Inspirado nas cantigas da lírica galego-portu
	guesa e noutras tradicións medievais — occitana\, arábigo-andalusí—\, Sanm
	amed propón unha obra de sonoridades actuais e profundamente emocionais\, 
	onde o pasado resoa como materia viva no presente.
URL:https://www.compostelacultura.gal/espectaculos/evento/estrela-mostrada
LOCATION:Rúa Nova\, 21<br>\n15705 Santiago de Compostela
X-MICROSOFT-CDO-BUSYSTATUS:BUSY
DURATION:PT80M
END:VEVENT
END:VCALENDAR
