BEGIN:VCALENDAR
VERSION:2.0
CALSCALE:GREGORIAN
PRODID:adamgibbons/ics
METHOD:PUBLISH
X-PUBLISHED-TTL:PT1H
BEGIN:VEVENT
UID:E9PaEa0i-fkInIzt5CorV
SUMMARY:AMORODIOS
DTSTAMP:20260422T183011Z
DTSTART:20261230T203000Z
DESCRIPTION:**XAN CAMPOS**\n\nMÚSICA · CICLO FIESTRA ABERTA\n\nConcerto de 
	presentación do disco Amorodios de Xan Campos \n\nXan Campos é unha das vo
	ces máis persoais e recoñecidas do jazz ibérico contemporáneo. Nacido en C
	angas en 1987\, formouse en conservatorios de Alemaña\, Países Baixos e Di
	namarca\, desenvolvendo unha linguaxe musical que bebe do jazz europeo mái
	s aberto e da exploración constante das formas e os timbres. Con cinco dis
	cos como líder e máis de trinta como sideman\, participou en festivais de 
	referencia en Europa e América Latina e colaborou con algunhas das figuras
	 máis importantes do jazz internacional. A súa música destaca pola experim
	entación rítmica\, as harmonias expresivas e a mestura de influencias que 
	van da música electrónica ao impresionismo\, sempre cunha clara vontade de
	 fuxir do establecido.\n\nAmorodios é o seu proxecto máis recente e\, ao m
	esmo tempo\, un punto de inflexión na súa traxectoria. Sen abandonar a ide
	ntidade musical que definiu os seus traballos anteriores\, este novo cuart
	eto abre unha vía nova no seu universo sonoro: por primeira vez\, as letra
	s e a voz entran no centro da proposta\, grazas á presenza de Faia Díaz\, 
	cantante profundamente conectada coa tradición oral galega e que achega co
	 seu canto unha forza nova\, unha verdade que transforma a música e a volv
	e raíz. Completan a banda dous músicos fundamentais do jazz galego: o bate
	ría Iago Fernández\, recoñecido internacionalmente pola súa capacidade exp
	resiva\, e  o guitarrista e baixista Virxilio Da Silva\, que aporta unha g
	ran riqueza tímbrica con ecos do rock. Amorodios é unha catarse e unha sín
	tese\, unha música viva\, honesta\, sen artificios\, que conxuga mundos di
	stintos para contar algo novo.
URL:https://www.compostelacultura.gal/espectaculos/evento/amorodios
LOCATION:Rúa Nova\, 21<br>\n15705 Santiago de Compostela
X-MICROSOFT-CDO-BUSYSTATUS:BUSY
DURATION:PT80M
END:VEVENT
END:VCALENDAR
