BEGIN:VCALENDAR
VERSION:2.0
CALSCALE:GREGORIAN
PRODID:adamgibbons/ics
METHOD:PUBLISH
X-PUBLISHED-TTL:PT1H
BEGIN:VEVENT
UID:xt0LpTaxv514nCF3iRJA1
SUMMARY:Debate sobre «Baba Yagá puso un huevo» de Dubravka Ugresic
DTSTAMP:20260422T183011Z
DTSTART:20261231T173000Z
DESCRIPTION:Os martes\, 5 e 19 de maio\, ás 17.30h no Salón de Actos Isaac 
	Díaz Pardo do Ateneo de Santiago (Pr. Salvador Parga\, 4\, 2º) terán lugar
	 novas sesións do Club de Lectura\, onde se comentará a obra _Baba Yagá pu
	so un huevo_ de Dubravka Ugresic.\n\n_**Baba Yagá puso un huevo**_ é un ma
	xistral conto de contos que\, cheo de enxeño e perspicacia\, pon no punto 
	de mira a archicoñecida figura da anciá perversa. Baba Yagá é unha criatur
	a escura e solitaria\, unha bruxa que rapta nenos e vive no bosque\, nunha
	 casa que se sustenta sobre patas de galiña. Pero tamén viaxa a través das
	 historias\, e en cada unha delas adopta unha nova forma: unha escritora q
	ue regresa á Bulgaria natal da súa nai\, que\, atormentada pola vellez\, l
	le pide que visite os lugares aos que ela xa non poderá volver\; un trío d
	e anciás misteriosas que se hospedan durante uns días nun spa especializad
	o en tratamentos de lonxevidade\; e unha folclorista que investiga incansa
	ble a figura tradicional da bruxa. Anciás\, esposas\, nais\, fillas\, aman
	tes. Todas elas conflúen en Baba Yagá. A cabalo entre a autobiografía\, o 
	ensaio e o relato sobrenatural\, a súa historia convértese na de Medusa\, 
	Medea e tantas outras figuras malditas\, debuxando un tríptico apaixonante
	 sobre como aparecen e desaparecen as mulleres da memoria colectiva.\n\n**
	Dubravka Ugresic** naceu en 1949 en Kutina\, preto de Zagreb. Licenciouse 
	en Literatura Comparada e Literatura Rusa e traballou na Universidade de Z
	agreb. Tras estalar a guerra dos Balcáns\, exiliouse en 1993. Dende entón 
	ensinou en universidades de Europa e América. A súa obra mantén o vínculo 
	co seu país (memoria\, exilio\, emigración\, identidade) cunha forte compo
	ñente ética. Recibiu o Premio Charles Veillon ao mellor libro europeo de e
	nsaio\, o Premio Austria de Literatura Europea\, o Premio Neustadt de Lite
	ratura Internacional ou o Premio ao Mellor Escritor Internacional da Royal
	 Society of Literature\, entre outros. Morreu en Ámsterdam en marzo de 202
	3.
LOCATION:Praza de Salvador Parga\, 4\, 2º<br>\n15704 Santiago de Compostela
X-MICROSOFT-CDO-BUSYSTATUS:BUSY
DURATION:PT
END:VEVENT
END:VCALENDAR
