BEGIN:VCALENDAR
VERSION:2.0
CALSCALE:GREGORIAN
PRODID:adamgibbons/ics
METHOD:PUBLISH
X-PUBLISHED-TTL:PT1H
BEGIN:VEVENT
UID:zAmiuAHasDYnwmZeJLstC
SUMMARY:BMSC · UN PASO FOLCLÓRICO
DTSTAMP:20260422T183011Z
DTSTART:20261231T120000Z
DESCRIPTION:Temporada 2025/26: Escoita\, sinte e desfruta\n\nConcerto: _Un 
	paso folclórico_\n\n**BANDA MUNICIPAL DE SANTIAGO DE COMPOSTELA**\n\n**BAN
	DA SINFÓNICA GALEGA**\n\nDavid Fiuza (director)\n\n**PROGRAMA**\n\nJules M
	assenet: Le Cid -suite de ballet-\n\nManuel de Falla: El sombrero de tres 
	picos\n\nSINOPSE:\n\nO ballet resulta unha maridaxe perfecta entre a danza
	 e a música\; tan complementarios como indisociables. Neste recipiente de 
	expresión corporal sobre o son\, os compositores atopan unha potencial ins
	piración\, que á súa vez pode valer como transferencia cultural a través d
	o folclore. O francés Massenet plasma a súa visión francesa do folclore ib
	érico a través do ballet “Le Cid”\, para que esta transferencia sexa despo
	is correspondida por Manuel de Falla\, na que o seu nacionalismo andaluz e
	stá totalmente influenciado polo estilo e sonoridade francesa
URL:https://www.compostelacultura.gal/espectaculos/evento/bmsc-%C2%B7-un-pa
	so-folcl%C3%B3rico
LOCATION:Rúa Nova\, 21<br>\n15705 Santiago de Compostela
X-MICROSOFT-CDO-BUSYSTATUS:BUSY
DURATION:PT60M
END:VEVENT
END:VCALENDAR
