BEGIN:VCALENDAR
VERSION:2.0
CALSCALE:GREGORIAN
PRODID:adamgibbons/ics
METHOD:PUBLISH
X-PUBLISHED-TTL:PT1H
BEGIN:VEVENT
UID:0x7XNesafapBp4aH5XzC4
SUMMARY:Eris Mackenzie
DTSTAMP:20260422T183011Z
DTSTART:20261231T203000Z
DESCRIPTION:Eris Mackenzie é o proxecto do produtor e compositor coruñés Ca
	rlos Eirís\, que fusiona electrónica de vangarda con elementos da tradició
	n galega.\nO artista combina electrónica\, minimal-techno ou hardstyle con
	 alalás\, jotas e melodías populares para construir un son propio. Autodid
	acta\, crea desde un espazo moi persoal onde o piano e a produción dixital
	 dialogan.
LOCATION:Rúa do Preguntoiro\, 35<br>\n15704 Santiago de Compostela
X-MICROSOFT-CDO-BUSYSTATUS:BUSY
DURATION:PT
END:VEVENT
END:VCALENDAR
