BEGIN:VCALENDAR
VERSION:2.0
CALSCALE:GREGORIAN
PRODID:adamgibbons/ics
METHOD:PUBLISH
X-PUBLISHED-TTL:PT1H
BEGIN:VEVENT
UID:uvWI1q-gstscPgf-bwEoV
SUMMARY:TRIBUTO A MICHAEL JACKSON
DTSTAMP:20260422T183011Z
DTSTART:20261231T180000Z
DESCRIPTION:BY MIGUEL CONCHA
URL:https://entradas.ataquilla.com/es/ventaentradas/conciertos_pop/841-teat
	ro-compostela-28antiguo-teatro-la-salle29/x3ak8tvs-tributo-a-michael-jacks
	on-by-miguel-concha
LOCATION:Rúa de Ramón del Valle-Inclán\, 6<br>\n15703 Santiago de Compostel
	a
X-MICROSOFT-CDO-BUSYSTATUS:BUSY
DURATION:PT
END:VEVENT
END:VCALENDAR
