BEGIN:VCALENDAR
VERSION:2.0
CALSCALE:GREGORIAN
PRODID:adamgibbons/ics
METHOD:PUBLISH
X-PUBLISHED-TTL:PT1H
BEGIN:VEVENT
UID:6tdohAdPKBVk51h94YJUw
SUMMARY:MILLÁN SALCEDO
DTSTAMP:20260422T183011Z
DTSTART:20261231T210000Z
DESCRIPTION:PREGUNTAMELÓN
URL:https://entradas.ataquilla.com/es/ventaentradas/humor/841-teatro-compos
	tela-28antiguo-teatro-la-salle29/x3aj44tm-millan-salcedo-22preguntamelon22
LOCATION:Rúa de Ramón del Valle-Inclán\, 6<br>\n15703 Santiago de Compostel
	a
X-MICROSOFT-CDO-BUSYSTATUS:BUSY
DURATION:PT
END:VEVENT
END:VCALENDAR
