BEGIN:VCALENDAR
VERSION:2.0
CALSCALE:GREGORIAN
PRODID:adamgibbons/ics
METHOD:PUBLISH
X-PUBLISHED-TTL:PT1H
BEGIN:VEVENT
UID:6stVZa9KhseSlXR5ceg_S
SUMMARY:TRIBUTO A BRUCE SPRINGTEEN
DTSTAMP:20260422T183011Z
DTSTART:20261231T203000Z
DESCRIPTION:BACK TO GLORY DAYS
URL:https://entradas.ataquilla.com/es/ventaentradas/conciertos/841-teatro-c
	ompostela-28antiguo-teatro-la-salle29/x3ak7mje-tributo-a-bruce-springteen-
	back-to-glory-days
LOCATION:Rúa de Ramón del Valle-Inclán\, 6<br>\n15703 Santiago de Compostel
	a
X-MICROSOFT-CDO-BUSYSTATUS:BUSY
DURATION:PT
END:VEVENT
END:VCALENDAR
