BEGIN:VCALENDAR
VERSION:2.0
CALSCALE:GREGORIAN
PRODID:adamgibbons/ics
METHOD:PUBLISH
X-PUBLISHED-TTL:PT1H
BEGIN:VEVENT
UID:2mgiM468tpZfrMuchJdGL
SUMMARY:CARLOS BLANCO
DTSTAMP:20260422T183011Z
DTSTART:20261231T203000Z
DESCRIPTION:LA PENÚLTIMAPorque nunca se sabe.Carlos Blanco lanza La Penúlti
	ma.Porque el tiempo pasa y…Carlos ahora llega con imágenes\, con historias
	 nuevas y viejas pero siempre con risas garantizadas.70 minutos con Carlos
	 siempre son cortos\, divertidos\, curativos…Imprescindibles.LA PENÚLTIMA 
	llega este año y ya veremos después que pasa.Para no perdérselo.
URL:https://www.teatrocompostela.es/carlos-blanco/
LOCATION:Rúa de Ramón del Valle-Inclán\, 6<br>\n15703 Santiago de Compostel
	a
X-MICROSOFT-CDO-BUSYSTATUS:BUSY
DURATION:PT
END:VEVENT
END:VCALENDAR
