BEGIN:VCALENDAR
VERSION:2.0
CALSCALE:GREGORIAN
PRODID:adamgibbons/ics
METHOD:PUBLISH
X-PUBLISHED-TTL:PT1H
BEGIN:VEVENT
UID:ojEHmgBfO4vYCjYAwjs5o
SUMMARY:MARCOS WALDEMAR
DTSTAMP:20260422T183011Z
DTSTART:20261231T203000Z
DESCRIPTION:INHERENTE
URL:https://entradas.ataquilla.com/es/ventaentradas/infantil_espectaculo-de
	-magia/841-teatro-compostela-28antiguo-teatro-la-salle29/x3ak5r26-marcos-w
	aldemar-22inherente22
LOCATION:Rúa de Ramón del Valle-Inclán\, 6<br>\n15703 Santiago de Compostel
	a
X-MICROSOFT-CDO-BUSYSTATUS:BUSY
DURATION:PT
END:VEVENT
END:VCALENDAR
