BEGIN:VCALENDAR
VERSION:2.0
CALSCALE:GREGORIAN
PRODID:adamgibbons/ics
METHOD:PUBLISH
X-PUBLISHED-TTL:PT1H
BEGIN:VEVENT
UID:7SCjE7EeTV_00lcSGx__v
SUMMARY:La Vida secreta de las madres
DTSTAMP:20260422T183011Z
DTSTART:20261230T120000Z
URL:https://entradas.ataquilla.com/es/ventaentradas/podcast/841-teatro-comp
	ostela-28antiguo-teatro-la-salle29/x3ajt15d-la-vida-secreta-de-las-madres
LOCATION:Rúa de Ramón del Valle-Inclán\, 6<br>\n15703 Santiago de Compostel
	a
X-MICROSOFT-CDO-BUSYSTATUS:BUSY
DURATION:PT
END:VEVENT
END:VCALENDAR
