BEGIN:VCALENDAR
VERSION:2.0
CALSCALE:GREGORIAN
PRODID:adamgibbons/ics
METHOD:PUBLISH
X-PUBLISHED-TTL:PT1H
BEGIN:VEVENT
UID:i1poKjOdaDt-6Sni1FPi1
SUMMARY:FEDE CYRULNIK
DTSTAMP:20260422T183011Z
DTSTART:20261230T203000Z
DESCRIPTION:STAND UP COMEDY SHOW
URL:https://entradas.ataquilla.com/es/ventaentradas/humor_monologos/841-tea
	tro-compostela-28antiguo-teatro-la-salle29/x3ajzep2-fede-cyrulnik-stand-up
	-comedy-show
LOCATION:Rúa de Ramón del Valle-Inclán\, 6<br>\n15703 Santiago de Compostel
	a
X-MICROSOFT-CDO-BUSYSTATUS:BUSY
DURATION:PT
END:VEVENT
END:VCALENDAR
