BEGIN:VCALENDAR
VERSION:2.0
CALSCALE:GREGORIAN
PRODID:adamgibbons/ics
METHOD:PUBLISH
X-PUBLISHED-TTL:PT1H
BEGIN:VEVENT
UID:d-5i10A0Q2FU_QW6LiIiZ
SUMMARY:IRIBARNE · XIRA DESPEDIDA
DTSTAMP:20260422T183011Z
DTSTART:20261230T203000Z
DESCRIPTION:BUTACAZERO\, CENTRO DRAMÁTICO NACIONAL E MIT RIBADAVIA\nIdade r
	ecomendada: a partir de 18 anos\nDuración: 180 min con intermedio de 15 mi
	n\nLingua: Galego\n \nIRIBARNE é un tipo nado na mesmísima vila de Rouco V
	arela (si: o cardeal) durante a Monarquía de Alfonso XIII (o primeiro prom
	otor do cine porno en España?\, si-si: ese). Emigrado a Cuba con tan só un
	 aniño —coincidindo con inauguración da ditadura de Primo de Rivera— tras 
	facer as Américas durante un par de anos o noso protagonista volve triunfa
	nte para ser o fillo do alcalde (e o da francesa!). Empeza o bacharel coa 
	entrada da II República\, case-case se fai cura durante a Guerra Civil per
	o decide liscar a Madrid —seguindo o rastro doutro galego ilustre— nada má
	is inaugurada a Era do Devandito (si\, claro: O Caudillísimo). Con tanto a
	fán tentou ser como o que máis pronto que tarde chegou a ser Ministro no s
	eu mandato\, a pesar de ter disparado dous días antes contra o cu da súa f
	illa (pero que dis!? Si-si: dato real!). Sendo o primeiro e mellor oposito
	r de España\, quixo substituír o Caudillo cando este morreu. Non puido ser
	: non ía por oposición. Tivo que conformarse co cargo de Vicerrei na súa q
	uerida Terra Galega.\nIRIBARNE é unha investigación escénica sobre unha de
	sas figuras absolutamente imprescindibles do noso pasado recente. Un inten
	to (irreverente) por comprender como chegamos até aquí da man dun político
	 que\, nas súas propias palabras\, dicía as verdades sen condón. Pero ollo
	: por máis que o poida parecer\, isto NON é un biopic sobre Manuel Fraga. 
	Teríanos encantado facelo… pero non collía nunha soa obra!\n(FOTO: Geraldi
	ne Leloutre)
URL:https://www.compostelacultura.gal/espectaculos/evento/iribarne-%C2%B7-x
	ira-despedida
LOCATION:Avenida do Burgo das Nacións<br>\n15705 Santiago de Compostela
X-MICROSOFT-CDO-BUSYSTATUS:BUSY
DURATION:PT180M
END:VEVENT
END:VCALENDAR
