BEGIN:VCALENDAR
VERSION:2.0
CALSCALE:GREGORIAN
PRODID:adamgibbons/ics
METHOD:PUBLISH
X-PUBLISHED-TTL:PT1H
BEGIN:VEVENT
UID:0tHlKEbMwC1XDkLDQ0V2a
SUMMARY:RFG · VARIACIÓNS DA HISTORIA
DTSTAMP:20260422T183011Z
DTSTART:20261230T203000Z
DESCRIPTION:REAL FILHARMONÍA DE GALICIA \nBaldur Brönnimann\, director \nSa
	ntiago Cañón\, violonchelo\nCoa participación do alumnado da EAEM\n \nPROG
	RAMA\nAlberto Evaristo Ginastera: Variacións concertantes\, Op. 23 \nAnton
	ín Dvořák: Concerto para violonchelo e orquestra en Si menor\, Op. 104\nA 
	temporada chega ao seu fin coa Cometa de Octavi Rumbau\, que ilumina as Va
	riacións Concertantes de Alberto Ginastera\, escritas por este compositor 
	apaixonado polo folclore e pola vangarda\, en pleno conflito co goberno de
	 Perón. Estreadas en 1953\, as Variacións subliman a música popular arxent
	ina. Ese mesmo amor polo folclore habita no checo Antonín Dvořák\, como se
	 revela no seu Concerto para violonchelo e orquestra\, composto en Nova Yo
	rk durante a súa etapa como director do Conservatorio Nacional. Na obra la
	texa a súa relixiosidade e a súa fe na humanidade. O concerto comparte co 
	Stabat Mater\, composto tras a perda dos seus tres primeiros fillos\, un m
	esmo alento\, no que a dor tráxica dá paso á esperanza. Non cabe mellor fi
	nal para esta temporada que tantas historias nos ten ofrecido.\n\nÁs 19.45
	 h\, Conversando con... Baldur Brönnimann e Santiago Cañón na Sala Mozart.
URL:https://www.compostelacultura.gal/espectaculos/evento/rfg-%C2%B7-variac
	i%C3%B3ns-da-historia
LOCATION:Avenida do Burgo das Nacións<br>\n15705 Santiago de Compostela
X-MICROSOFT-CDO-BUSYSTATUS:BUSY
DURATION:PT90M
END:VEVENT
END:VCALENDAR
