BEGIN:VCALENDAR
VERSION:2.0
CALSCALE:GREGORIAN
PRODID:adamgibbons/ics
METHOD:PUBLISH
X-PUBLISHED-TTL:PT1H
BEGIN:VEVENT
UID:_jRdvqTgKtevHW7WzMLuP
SUMMARY:PULSO ENSEMBLE · LABORATORIO SONORO INCLUSIVO - SYMBIONT
DTSTAMP:20260422T183011Z
DTSTART:20261231T123000Z
DESCRIPTION:CONTEMPORÁNEAS 2025-2026\nPULSO ENSEMBLE\nPablo Paz\, percusión
	s\nMaría Dominguez\, piano.\nAsia Jiménez\, violín\nSara Méndez\, saxofón\
	nPedro González\, electrónica\n\nAsociación Arraianas\, Coro\nLABORATORIO 
	SONORO INCLUSIVO - SYMBIONT\nPedro González Fernández (1991)\nSymbiont (20
	25)*\nEncargo do Festival Mixtur e estrea en Galicia\nO proxecto pedagóxic
	o Laboratorio Sonoro Inclusivo - Symbiont ten como obxectivo achegar a mús
	ica contemporánea ao público en xeral e\, en particular\, ás persoas en ri
	sco de exclusión social. A través dunha serie de obradoiros liderados polo
	s integrantes de Pulso Ensemble\, as persoas participantes introduciránse 
	de maneira activa nas diferentes prácticas sonoras contemporáneas.\nNesta 
	ocasión\, as participantes formarán parte da estrea en Galicia do espectác
	ulo Symbiont\, do compositor Pedro González\, dentro do Ciclo Contemporáne
	as\, organizado polo Auditorio de Galicia.\nSymbiont é unha instalación mu
	ltimedia duns 35 minutos de duración para ensemble de cinco músicos (violí
	n\, saxofóns\, percusión\, teclados\, electrónica)\, grupo de bailaríns e 
	coro xuvenil. Os intérpretes interactúan cun obxecto orgánico do futuro\, 
	formado por pólas e elementos naturais activados por servomotores e microc
	ontroladores\, creando unha paisaxe sonora híbrida entre o orgánico\, o hu
	mano e o artificial. A obra explora visións futuristas utópicas e distópic
	as sobre a simbiose entre industria\, natureza e tecnoloxía.\nPulso Ensemb
	le\nPulso Ensemble nace no ano 2019 centrado na música experimental de nov
	a creación. Desde os seus inicios aposta por un discurso articulado arredo
	r da contemporaneidade e da relación entre o individuo e a revolución dixi
	tal. Os integrantes de Pulso participaron nos principais festivais europeo
	s dedicados á música de nova creación\, traballando con compositores como 
	Michael Beil\, Simon Steen-Andersen\, Alexander Schubert\, Stefan Prins\, 
	José Manuel López López\, César Camarero\, Fritz Hauser\, François Sarhan\
	, Marko Ciciliani\, Svetlana Maras ou Marianthi.\nPedro González\nPedro Go
	nzález é un compositor\, violinista e investigador especializado en proxec
	tos de arte intermedia. As súas composicións foron interpretadas en festiv
	ais como o Internationales Musikfest Hamburg\, a International Computer Mu
	sic Conference\, o Sound & Music Computing Conference\, o Centre National 
	de Création Musicale (GRAME)\, o Musica Festival en Estrasburgo\, o Festiv
	al Ensems ou o Klangwerkstatt en Berlín. Desde marzo de 2021\, Pedro é pro
	fesor de Música Contemporánea na Escola Superior de Música de Catalunya (E
	SMUC) en Barcelona. En 2023\, recibiu unha bolsa Fulbright como investigad
	or convidado no CCRMA da Universidade de Stanford para traballar en sistem
	as de feedback háptico e 4E Cognition. Tamén impartiu seminarios sobre mul
	timedia na HfMT de Hamburgo e na MHL de Lübeck\, e traballa como composito
	r e violinista freelance en España e no norte de Alemaña
URL:https://www.compostelacultura.gal/espectaculos/evento/contempor%C3%A1ne
	as-%C2%B7-laboratorio-sonoro-inclusivo
LOCATION:Avenida do Burgo das Nacións<br>\n15705 Santiago de Compostela
X-MICROSOFT-CDO-BUSYSTATUS:BUSY
DURATION:PT60M
END:VEVENT
END:VCALENDAR
