BEGIN:VCALENDAR
VERSION:2.0
CALSCALE:GREGORIAN
PRODID:adamgibbons/ics
METHOD:PUBLISH
X-PUBLISHED-TTL:PT1H
BEGIN:VEVENT
UID:SHwJ_LUPLbr90m5qKxNl7
SUMMARY:CIRCO DOBLE EXPRESSO
DTSTAMP:20260422T183011Z
DTSTART:20261231T180000Z
DESCRIPTION:DESASTRONAUTS\nIdade recomendada: a partir de 3 anos\nDuración:
	 45 min\nLingua: galego\nCon máis de 20 anos no mundo do circo\, Raquel e 
	Girisho presentan o seu quinto espectáculo de circo contemporáneo. Dous em
	inentes artistas do circo esfórzanse por demostrar quen é o mellor. Girish
	o ten confianza\, é entusiasta... pero non moi intelixente. Raquel é estri
	ta\, metódica e moi hábil. Non se deterán ante nada para gañar a aprobació
	n do seu público. Un espectáculo de circo áxil\, divertido e moi habilidos
	o no que Raquel e Girisho usan trapecio\, tela área\, hula hoops e... moit
	o máis!
URL:https://www.compostelacultura.gal/espectaculos/evento/circo-doble-expre
	sso
LOCATION:Rúa das Galeras <br>\n15705 Santiago de Compostela
X-MICROSOFT-CDO-BUSYSTATUS:BUSY
DURATION:PT
END:VEVENT
END:VCALENDAR
