BEGIN:VCALENDAR
VERSION:2.0
CALSCALE:GREGORIAN
PRODID:adamgibbons/ics
METHOD:PUBLISH
X-PUBLISHED-TTL:PT1H
BEGIN:VEVENT
UID:l0P1P_OxtrwGNwzbd-b1s
SUMMARY:RFG · ORIXES
DTSTAMP:20260422T183011Z
DTSTART:20261231T203000Z
DESCRIPTION:REAL FILHARMONÍA DE GALICIA \nAmandine Beyer\, directora\n \nPR
	OGRAMA\nGeorg Friedrich Händel: Suite núm. 1 en Fa maior\, da Música Acuát
	ica\, HWV 348\nCarl Friedrich Abel: Sinfonía núm. 4 en Do maior\, Op. 17\n
	Johann Christian Bach: Abertura e Suite de Amadis de Gaula\nEste programa 
	desta noite viaxa desde o corazón do Barroco ata o Clasicismo\, ofrecéndon
	os a posibilidade de apreciar a transformación estética dunha época. Haend
	el compuxo A música acuática para reconciliarse co seu protector\, recente
	mente coroado rei de Inglaterra\, tras dous anos de ausencia. Establecido 
	tamén en Londres\, Carl Friedrich Abel naceu en Köthen en 1723\, cando rem
	ataba a súa estadía alí Johann Sebastian Bach. As dúas familias mantiveron
	 unha relación estreita\, consolidada cando Carl Friedrich organizou en Lo
	ndres os concertos Bach-Abel xunto a Johann Christian Bach. O alcoholismo 
	de Abel precipitou unha carreira brillante\, na que destaca a Sinfonía núm
	. 4\, na que se albisca toda a perfección formal que florecería no Clasici
	smo. Masón como Abel\, Johann Christian Bach sobresaíu como compositor de 
	óperas como Amadis de Gaula\, un fito na época.\n\nÁs 19.45 h\, Conversand
	o con... Amandine Beyer na Sala Mozart.
URL:https://www.compostelacultura.gal/espectaculos/evento/rfg-%C2%B7-orixes
LOCATION:Avenida do Burgo das Nacións<br>\n15705 Santiago de Compostela
X-MICROSOFT-CDO-BUSYSTATUS:BUSY
DURATION:PT90M
END:VEVENT
END:VCALENDAR
