BEGIN:VCALENDAR
VERSION:2.0
CALSCALE:GREGORIAN
PRODID:adamgibbons/ics
METHOD:PUBLISH
X-PUBLISHED-TTL:PT1H
BEGIN:VEVENT
UID:bEEyGwgPToxjBKuJDG98t
SUMMARY:CONTRA ANA
DTSTAMP:20260422T183011Z
DTSTART:20261231T203000Z
DESCRIPTION:LA CONTRARIA\nIdade recomendada: a partir de 14 anos\nDuración:
	 75 min \nLingua: Castelán\nCONTRA ANA é unha autoficción que retrata a an
	orexia (e que é un Trastorno da Conduta Alimentaria na súa complexidade) d
	esde a experiencia real da autora\, Alma García. Céntrase especialmente no
	 ano que pasou ingresada nunha clínica en Barcelona e reflexiona sobre a i
	dentidade e o que este concepto supuxo para ela. \nA obra adéntrase na pro
	cura dos porqués e na responsabilidade que a sociedade ten no desenvolveme
	nto (ou mantemento) dun TCA. \n\n(Foto: Alfon García)
URL:https://www.compostelacultura.gal/espectaculos/evento/contra-ana
LOCATION:Rúa Nova\, 21<br>\n15705 Santiago de Compostela
X-MICROSOFT-CDO-BUSYSTATUS:BUSY
DURATION:PT75M
END:VEVENT
END:VCALENDAR
