BEGIN:VCALENDAR
VERSION:2.0
CALSCALE:GREGORIAN
PRODID:adamgibbons/ics
METHOD:PUBLISH
X-PUBLISHED-TTL:PT1H
BEGIN:VEVENT
UID:r_bKK8AgqKLt24PpYVK1x
SUMMARY:NORTEAR
DTSTAMP:20260422T183011Z
DTSTART:20261231T203000Z
DESCRIPTION:COLUMNA BALTEIRA\nIdade recomendada: Todos os públicos\n80 min 
	\nLingua: galego\nPosfunción ao remate do pase\nNORTEAR é unha peza escéni
	ca onde o espectral se confunde co real\, o político co onírico\, o etnogr
	áfico co poético.\nUn grupo de mulleres habita un espazo baleirado do Nort
	e.\nPerdidas nun compás e hipnotizadas polo Mar\, os corpos das mulleres t
	ransitan\, danzan e traballan infinitamente... buscando un punto no que an
	corarse. Turrando pola Utopía.\n\n(Foto: Benxamín Otero)
URL:https://www.compostelacultura.gal/espectaculos/evento/nortear
LOCATION:Rúa Nova\, 21<br>\n15705 Santiago de Compostela
X-MICROSOFT-CDO-BUSYSTATUS:BUSY
DURATION:PT80M
END:VEVENT
END:VCALENDAR
