BEGIN:VCALENDAR
VERSION:2.0
CALSCALE:GREGORIAN
PRODID:adamgibbons/ics
METHOD:PUBLISH
X-PUBLISHED-TTL:PT1H
BEGIN:VEVENT
UID:kImkf56s91jMV_BEFATAo
SUMMARY:ALICIA WANTS TO
DTSTAMP:20260422T183011Z
DTSTART:20261231T203000Z
DESCRIPTION:BENGALA TEATRO FÍSICO\nIdade recomendada: > 12 anos\nDuración: 
	60 min\nLingua: Galego\nPosfunción ao remate do pase\nEsta é a vida\, a pa
	rtida de Alicia\, ela xoga as brancas pero non conta con todas as pezas.\n
	ALICIA WANTS TO é unha mistura de realismo máxico e crueza social que nos 
	conta a historia de Alicia\, unha adolescente que sofre problemas coas dro
	gas e unha posible situación de abuso. A peza comeza cando Alicia sae dun 
	centro de menores e se reencontra con súa nai\, Juana. Ambas son mulleres 
	da marxe\, da fronteira\, do borde\, que tratan de sobrevivir nunha socied
	ade atravesada pola exclusión social\, os abusos\, a pobreza e un sistema 
	xudicial que non protexe a todos por igual. A historia está construída a t
	ravés dunha partida de xadrez na que o público é parte activa\, elixindo a
	lgunha das decisións que ten que tomar Alicia e\, polo tanto\, decidindo c
	omo continúa o espectáculo.
URL:https://www.compostelacultura.gal/espectaculos/evento/alicia-wants
LOCATION:Rúa Nova\, 21<br>\n15705 Santiago de Compostela
X-MICROSOFT-CDO-BUSYSTATUS:BUSY
DURATION:PT60M
END:VEVENT
END:VCALENDAR
