BEGIN:VCALENDAR
VERSION:2.0
CALSCALE:GREGORIAN
PRODID:adamgibbons/ics
METHOD:PUBLISH
X-PUBLISHED-TTL:PT1H
BEGIN:VEVENT
UID:mu8nqwQ3Q720azv9ZifGC
SUMMARY:RFG · UNIVERSOS PARALELOS
DTSTAMP:20260422T183011Z
DTSTART:20261231T203000Z
DESCRIPTION:REAL FILHARMONÍA DE GALICIA \nZoe Zeniodi\, directora \nEsteban
	 Batallán\, trompeta\nCoa participación do alumnado da EAEM\n \nPROGRAMA\n
	Cometa: Encarga a Nuria Núñez Hierro. Estrea absoluta \nBritta Byström: Pa
	rallel Universes. Estrea en España \nJohann Nepomuk Hummel: Concerto para 
	trompeta en Mi bemol maior \nArthur Honegger: Sinfonía núm. 2\, H153\nNuri
	a Núñez Hierro introduce Parallel Universes da compositora sueca Britta By
	ström\, na que propón traducir en música teorías cosmolóxicas sobre as rea
	lidades paralelas. Máis centrado na terra é o Concerto para trompeta en Mi
	 bemol maior de Hummel\, quen\, a pesar de ser un neno prodixio como Mozar
	t\, deixou un bo posto de traballo como sucesor de Haydn na corte Esterház
	y para gozar de Weimar e da amizade de Goethe. A pesar da marabillosa escr
	ita do concerto\, o solista da estrea tomouse a liberdade de cambiar parte
	s. E a trompeta lévanos tamén ata o final deste serán\, como o instrumento
	 que escolleu Honegger na súa Sinfonía núm. 2 para conducirnos desde a ang
	uria do París ocupado ata a afirmación da beleza da vida no terceiro movem
	ento.\n\nÁs 19.45 h\, Conversando con... Zoe Zeniodi e Esteban Batallán na
	 Sala Mozart.
URL:https://www.compostelacultura.gal/espectaculos/evento/rfg-%C2%B7-univer
	sos-paralelos
LOCATION:Avenida do Burgo das Nacións<br>\n15705 Santiago de Compostela
X-MICROSOFT-CDO-BUSYSTATUS:BUSY
DURATION:PT90M
END:VEVENT
END:VCALENDAR
