BEGIN:VCALENDAR
VERSION:2.0
CALSCALE:GREGORIAN
PRODID:adamgibbons/ics
METHOD:PUBLISH
X-PUBLISHED-TTL:PT1H
BEGIN:VEVENT
UID:EmeXhKTcwmzvoGT1kzvPZ
SUMMARY:ESENCIA
DTSTAMP:20260422T183011Z
DTSTART:20261231T203000Z
DESCRIPTION:TEATRO ESPAÑOL E ENTRECAJAS PRODUCCIONES TEATRALES\nIdade recom
	endada: Público adulto\nDuración: 80 min\nLingua: Castelán\n \nPierre e Ce
	cil\, dous vellos amigos\, reencóntranse despois de moitos anos. A súa con
	versa\, mesturada con recordos e reflexións\, está atravesada pola espera 
	dun misterioso autor que nunca vai chegar. Ou quizá estivo presente desde 
	o principio?\nESENCIA é unha das obras máis enigmáticas de Ignacio García 
	May\, un labirinto de percepcións onde a realidade se cambalea e se volve 
	difusa. Unha invitación á reflexión e ao cuestionamiento de nosas propias 
	certezas\, unha exploración sobre a realidade que nos rodea.\nESENCIA é a 
	inexistencia mesma do real. \n\n(FOTO: Javier Naval)
URL:https://www.compostelacultura.gal/espectaculos/evento/esencia
LOCATION:Avenida do Burgo das Nacións<br>\n15705 Santiago de Compostela
X-MICROSOFT-CDO-BUSYSTATUS:BUSY
DURATION:PT90M
END:VEVENT
END:VCALENDAR
