BEGIN:VCALENDAR
VERSION:2.0
CALSCALE:GREGORIAN
PRODID:adamgibbons/ics
METHOD:PUBLISH
X-PUBLISHED-TTL:PT1H
BEGIN:VEVENT
UID:lfmGy8RrDxUrZRlC1znB6
SUMMARY:NACHO MUÑOZ E SOL ÁLVAREZ · COMPOSTELA IN-AUDITA
DTSTAMP:20260422T183011Z
DTSTART:20261231T203000Z
DESCRIPTION:CONTEMPORÁNEAS 2025-2026\nNacho Muñoz\, pianista\, compositor e
	 produtor\nSol Álvarez\, artista visual \nCOMPOSTELA IN-AUDITA\nMeditación
	s sonoras urbanas\n\nCompostela In-audita é un proxecto de escoita\, docum
	entación e transformación artística do patrimonio sonoro contemporáneo de 
	Santiago de Compostela\, materializado nun concerto audiovisual de 60 minu
	tos elaborado a partir de imaxes e sons específicos das rúas e parroquias 
	de Santiago\, recollidos durante unha Residencia Rega no Gaiás no 2022. A 
	proxección deste filme sonoro vai acompañada no concerto coa música do pro
	pio Nacho Muñoz (electrónica e voz) e coa vídeo-realización ao vivo (live 
	cinema) do premiado cineasta e creador audiovisual galego Roi Fernández. A
	 iniciativa enmárcase dentro do proceso de investigación artística sobre s
	on e espazo público denominado Sonic Parkour\, desenvolvido por Nacho Muño
	z ao longo destes últimos anos\, que explora como nos relacionamos co terr
	itorio a través da súa paisaxe sonora\, transitando de xeito transversal p
	or diversas disciplinas como antropoloxía\, urbanismo\, arquitectura\, esp
	azo público\, arte sonora\, patrimonio inmaterial\, artes urbanas\, artes 
	visuais\, cinema ao vivo\, video-arte\, walking art\, acusmática ou acústi
	ca. Con esta orixinal recreación musical do imaxinario sonoro de Santiago\
	, propomos pois unha abordaxe á súa identidade e espiritualidade a través 
	da súa escoita\, atendendo ás especificidades sonoras de cada lugar e ás s
	ensacións auditivas que definen as distintas localizacións elixidas.
URL:https://www.compostelacultura.gal/espectaculos/evento/contempor%C3%A1ne
	as-%C2%B7-compostela-audita
LOCATION:Avenida do Burgo das Nacións<br>\n15705 Santiago de Compostela
X-MICROSOFT-CDO-BUSYSTATUS:BUSY
DURATION:PT60M
END:VEVENT
END:VCALENDAR
