BEGIN:VCALENDAR
VERSION:2.0
CALSCALE:GREGORIAN
PRODID:adamgibbons/ics
METHOD:PUBLISH
X-PUBLISHED-TTL:PT1H
BEGIN:VEVENT
UID:1Fzy65mHY44RKMCm9hKf4
SUMMARY:BMSC · UN PASO RUPTURISTA
DTSTAMP:20260422T183011Z
DTSTART:20261231T120000Z
DESCRIPTION:Temporada 2025/26: Escoita\, sinte e desfruta\nConcerto: Un pas
	o rupturista\nBANDA MUNICIPAL DE SANTIAGO DE COMPOSTELA\nBANDA SINFÓNICA G
	ALEGA\nDavid Fiuza (director)\nPROGRAMA\nIgor Stravinsky: L’oiseau de feu 
	(suite 1919)\nManuel de Falla: El sombrero de tres picos\nSINOPSE\nDiaghil
	ev é a figura reveladora do impulso no ballet de principios do s.XX\; un p
	aso rupturista que une ós compositores emerxentes e consolidados no entorn
	o parisino da década de 1910. Este programa configúrase co “Paxaro de lume
	” e o “Sombreiro de tres picos”\, sendo 2 ballets promovidos por Diaghilev
	\, nos que o ruso Stravinsky e o andaluz Manuel de Falla\, dan ‘un paso ru
	pturista’ no xénero\, alcanzando unha idea musical absolutamente vangardis
	ta e atrevida.
URL:https://www.compostelacultura.gal/espectaculos/evento/bmsc-%C2%B7-un-pa
	so-rupturista
LOCATION:Rúa Nova\, 21<br>\n15705 Santiago de Compostela
X-MICROSOFT-CDO-BUSYSTATUS:BUSY
DURATION:PT60M
END:VEVENT
END:VCALENDAR
