BEGIN:VCALENDAR
VERSION:2.0
CALSCALE:GREGORIAN
PRODID:adamgibbons/ics
METHOD:PUBLISH
X-PUBLISHED-TTL:PT1H
BEGIN:VEVENT
UID:0NYPu_4_5oLkenKsZqZWA
SUMMARY:TAVOLE
DTSTAMP:20260422T183011Z
DTSTART:20261231T180000Z
DESCRIPTION:ZIRCO TXOSKO\nIdade recomendada: a partir de 3 anos\nDuración: 
	50 min\nLingua: galego\nZirko Txosko dá un tremendo paso adiante na súa li
	nguaxe circense. Unha das mellores compañías novas do noso circo gradúase 
	cun espectáculo adulto repleto de calidade e delicadeza.\nUn show con acro
	bacias\, danza\, movementos\, equilibrios cunha posta en escena orixinal e
	 diferente que non esquece o humor habitual da compañía.
URL:https://www.compostelacultura.gal/espectaculos/evento/tavole
LOCATION:Rúa das Galeras <br>\n15705 Santiago de Compostela
X-MICROSOFT-CDO-BUSYSTATUS:BUSY
DURATION:PT
END:VEVENT
END:VCALENDAR
