BEGIN:VCALENDAR
VERSION:2.0
CALSCALE:GREGORIAN
PRODID:adamgibbons/ics
METHOD:PUBLISH
X-PUBLISHED-TTL:PT1H
BEGIN:VEVENT
UID:nCJCKQiwZ-dFNwOneonuO
SUMMARY:VICENTA LORCA
DTSTAMP:20260422T183011Z
DTSTART:20261231T203000Z
DESCRIPTION:ÓSCAR COBOS COMPAÑÍA DE DANZA\nIdade recomendada: Todos os públ
	icos\nDuración: 60 min \nLingua Galego\nVICENTA LORCA non é un espectáculo
	 de palabras. É un poema vivo. Unha actriz que encarna a Vicenta\, un bail
	arín que percorre a vida de Federico dende o neno ata o home\, e un pianis
	ta que é o pulso\, o alento. Tres corpos no escenario. Tres linguaxes en d
	iálogo: música\, xesto e palabra. É unha viaxe onírica\, chea de imaxes po
	derosas: nacemento\, educación\, risas\, perda\, morte. Non está narrada c
	on lóxica lineal\, senón con símbolos que golpean directamente o corazón. 
	Porque estamos a falar de algo universal: a mirada dunha nai sobre a vida 
	e a morte do seu fillo.\nVICENTA LORCA é unha obra de teatro\, danza e mús
	ica deseñada para tres intérpretes que\, cada un no seu papel\, mostran un
	 Federico a través dos ollos da súa nai\, Vicenta.\n "A muller que máis am
	o no mundo" - Federico García Lorca.
URL:https://www.compostelacultura.gal/espectaculos/evento/vicenta-lorca
LOCATION:Avenida do Burgo das Nacións<br>\n15705 Santiago de Compostela
X-MICROSOFT-CDO-BUSYSTATUS:BUSY
DURATION:PT60M
END:VEVENT
END:VCALENDAR
