BEGIN:VCALENDAR
VERSION:2.0
CALSCALE:GREGORIAN
PRODID:adamgibbons/ics
METHOD:PUBLISH
X-PUBLISHED-TTL:PT1H
BEGIN:VEVENT
UID:Q-DlkcsfXU4bHqGWsK0Id
SUMMARY:ANÓNIMOS
DTSTAMP:20260422T183011Z
DTSTART:20261231T180000Z
DESCRIPTION:RAUXA CÍA.\nIdade recomendada: a partir de 7 anos\nDuración: 45
	 min\nLingua: castelán\nANÓNIMOS é un espectáculo de danza e circo contemp
	oráneo\, sensible e poético\, que nos mergulla no subconsciente dunha mull
	er que crea a través do papel unha realidade paralela\, un refuxio onírico
	\, onde o paso do tempo se converte en efémero e lixeiro para dar lugar á 
	nostalxia do esquecido.\nUnha peza cunha innovadora posta en escena\, que 
	fusiona a danza\, a acrobacia\, os equilibrios e a manipulación de obxecto
	s fantásticos e marionetas surrealistas\, para nos introducir nun mundo fr
	áxil e traxicómico que nos propón unha ollada distinta sobre a soidade.\n(
	Fotografía de Gaby Merz)\n\n\n        platea_bn.jpg
URL:https://www.compostelacultura.gal/espectaculos/evento/an%C3%B3nimos
LOCATION:Avenida do Burgo das Nacións<br>\n15705 Santiago de Compostela
X-MICROSOFT-CDO-BUSYSTATUS:BUSY
DURATION:PT45M
END:VEVENT
END:VCALENDAR
