BEGIN:VCALENDAR
VERSION:2.0
CALSCALE:GREGORIAN
PRODID:adamgibbons/ics
METHOD:PUBLISH
X-PUBLISHED-TTL:PT1H
BEGIN:VEVENT
UID:W1MTfoD7VrWMHGAnHGvjR
SUMMARY:FILTRO
DTSTAMP:20260422T183011Z
DTSTART:20261231T203000Z
DESCRIPTION:LA DRAMÁTICA ERRANTE\nIdade recomendada: Público adulto\nDuraci
	ón: 90 min\nLingua: Castelán\nNoite do 24 de agosto de 1994 en Montevideo 
	(Uruguai). \nNas inmediacións do Hospital Filtro\, xunto á entón sede da p
	residencia do país\, dirixentes do partido Frente Amplio e da central unit
	aria de traballadores PIT-CNT\, convocan unha manifestación en contra da e
	xtradición de tres integrantes da banda terrorista armada ETA\, cuxo trasl
	ado foi autorizado pola Suprema Corte de Xustiza de Uruguai.   \nA estació
	n de radio de CX 44 Radio Panamericana chama a asistir á zona e miles de p
	ersoas se achegan para pedir asilo político para o tres vascos. \nBerros n
	a rúa. \nAs forzas de seguridade dispóñense a trasladar os tres etarras ao
	 Aeroporto Internacional de Carrasco para levalos de volta a España\, pero
	 os berros medran.\nEmpurróns. Máis berros. A policía carga contra os civí
	s. A través da televisión\, a poboación segue o enfrontamento en directo\,
	 observando o corpo de Coraceros perseguindo cos seus cabalos os manifesta
	ntes. \nEsteban Massa\, un enfermeiro que tenta socorrer unha das vítimas\
	, recibe catro disparos polas costas.
URL:https://www.compostelacultura.gal/espectaculos/evento/filtro
LOCATION:Rúa Nova\, 21<br>\n15705 Santiago de Compostela
X-MICROSOFT-CDO-BUSYSTATUS:BUSY
DURATION:PT90M
END:VEVENT
END:VCALENDAR
