BEGIN:VCALENDAR
VERSION:2.0
CALSCALE:GREGORIAN
PRODID:adamgibbons/ics
METHOD:PUBLISH
X-PUBLISHED-TTL:PT1H
BEGIN:VEVENT
UID:MSBFbC4ErYMDEVnVkUNjN
SUMMARY:RFG · OBRADOIRO DE COMPOSICIÓN · RESIS
DTSTAMP:20260422T183011Z
DTSTART:20261231T203000Z
DESCRIPTION:REAL FILHARMONÍA DE GALICIA\nArmando Merino\, director\nJosé Ma
	nuel López López\, profesor de composición \nO Obradoiro de Composición RF
	G / RESIS.LAB forma parte da liña estratéxica da Real Filharmonía de Galic
	ia para apoiar a creación contemporánea e impulsar o talento emerxente. Es
	ta será a súa terceira edición\, e a segunda en colaboración co Festival R
	ESIS. Durante unha semana\, novos e novas compositoras traballan conxuntam
	ente cunha orquestra profesional\, baixo a dirección do director Armando M
	erino e coa orientación do compositor José Manuel López López. O proceso c
	omezará en outubro cun chamamento internacional para a presentación de obr
	as —o ano pasado recibíronse máis de 60!— das que se seleccionan 6 ou 7 pa
	ra desenvolver no obradoiro\, e que serán interpretadas nun concerto abert
	o ao público. Para unha orquestra\, poucas cousas hai máis estimulantes qu
	e descubrir e traballar con novos talentos.\nEn colaboración co Festival R
	ESIS
URL:https://www.compostelacultura.gal/espectaculos/evento/rfg-%C2%B7-obrado
	iro-de-composici%C3%B3n-%C2%B7-resis
LOCATION:Avenida do Burgo das Nacións<br>\n15705 Santiago de Compostela
X-MICROSOFT-CDO-BUSYSTATUS:BUSY
DURATION:PT60M
END:VEVENT
END:VCALENDAR
