BEGIN:VCALENDAR
VERSION:2.0
CALSCALE:GREGORIAN
PRODID:adamgibbons/ics
METHOD:PUBLISH
X-PUBLISHED-TTL:PT1H
BEGIN:VEVENT
UID:1mshgSSM6iuet7UND7IWS
SUMMARY:ALÉN
DTSTAMP:20260422T183011Z
DTSTART:20261231T203000Z
DESCRIPTION:COLECTIVO GLOVO\nIdade recomendada:Todos os públicos\nDuración:
	 55 min\nFoco NeoTrad\n \nALÉN é unha creación escénica de danza contempor
	ánea interpretada por catro bailarinas que parte do desexo de habitar o lí
	mite. Explora o “máis alá” non como un destino\, senón como un proceso: o 
	intre no que algo remata\, pero o novo aínda non tomou forma. Propón unha 
	experiencia poética e sensorial dese espazo intermedio\, dese territorio s
	uspendido onde a identidade se disolve para volver xurdir transformada. Nu
	nha proposta dinámica e enérxica\, as catro intérpretes móvense na frontei
	ra entre o que fomos e o que estamos a piques de ser.
URL:https://www.compostelacultura.gal/espectaculos/evento/al%C3%A9n-1
LOCATION:Rúa Nova\, 21<br>\n15705 Santiago de Compostela
X-MICROSOFT-CDO-BUSYSTATUS:BUSY
DURATION:PT60M
END:VEVENT
END:VCALENDAR
