BEGIN:VCALENDAR
VERSION:2.0
CALSCALE:GREGORIAN
PRODID:adamgibbons/ics
METHOD:PUBLISH
X-PUBLISHED-TTL:PT1H
BEGIN:VEVENT
UID:LPQUyHvh6pWzaFprtDA4o
SUMMARY:LUMIERO
DTSTAMP:20260422T183011Z
DTSTART:20261231T120000Z
DESCRIPTION:LA MENUDA\nIdade recomendada: a partir de 1 ano\nDuración: 40 m
	in\nLingua: sen texto\nLUMIERO é un espectáculo visual e musical pensado p
	ara a primeira infancia.\nO protagonista\, Lumiero (Pere Hosta)\, vive rod
	eado de pequenas luces e sombras que cobran vida.\nXunto coa súa filla Lum
	ina\, exploran un mundo tenro onde os obxectos brillan e a música acompaña
	 cada movemento.\nSons creados con instrumentos\, xoguetes e artefactos da
	n forma a unha atmosfera máxica e tranquila.\nLUMIERO é unha homenaxe á lu
	z\, á música\, á imaxinación e ao bo humor\, un espectáculo entrañable ond
	e a luz xoga a ser un conto e o conto se converte en realidade.\nBenvidas 
	e benvidos ao Universo Lumiero
URL:https://www.compostelacultura.gal/espectaculos/evento/lumiero
LOCATION:Avenida do Burgo das Nacións<br>\n15705 Santiago de Compostela
X-MICROSOFT-CDO-BUSYSTATUS:BUSY
DURATION:PT30M
END:VEVENT
END:VCALENDAR
