BEGIN:VCALENDAR
VERSION:2.0
CALSCALE:GREGORIAN
PRODID:adamgibbons/ics
METHOD:PUBLISH
X-PUBLISHED-TTL:PT1H
BEGIN:VEVENT
UID:siaK8Isxhe6Jp3xZGUuuh
SUMMARY:O MELLOR PRIMEIRO CONCERTO PARA BEBÉS
DTSTAMP:20260422T183011Z
DTSTART:20261231T120000Z
DESCRIPTION:MUSICALMENTE\n\nIdade recomendada: de 0 a 3 anos\nDuración: 45 
	min\nLingua: non verbal\nMonteverdi\, Bach e Mozart son algúns dos anfitri
	óns dunha ampla lista de compositores que nos levan do clásico ao jazz\, d
	o tradicional portugués ás músicas do mundo\, da electrónica á improvisaci
	ón e ao movemento compartido entre familias e crianzas. \nSaxofóns\, clari
	netes\, birimbaos\, cavaquiños e outros instrumentos\, conforman un univer
	so sonoro amplo e estimulante\, pensado para acompañar a curiosidade do pú
	blico máis pequeniño.
URL:https://www.compostelacultura.gal/espectaculos/evento/o-mellor-primeiro
	-concerto-para-beb%C3%A9s
LOCATION:Avenida do Burgo das Nacións<br>\n15705 Santiago de Compostela
X-MICROSOFT-CDO-BUSYSTATUS:BUSY
DURATION:PT30M
END:VEVENT
END:VCALENDAR
