BEGIN:VCALENDAR
VERSION:2.0
CALSCALE:GREGORIAN
PRODID:adamgibbons/ics
METHOD:PUBLISH
X-PUBLISHED-TTL:PT1H
BEGIN:VEVENT
UID:RhWpQopKkB3aarzRRRkMW
SUMMARY:RFG · FENDAS DO SILENCIO
DTSTAMP:20260422T183011Z
DTSTART:20261230T203000Z
DESCRIPTION:REAL FILHARMONÍA DE GALICIA \nVimbayi Kaziboni\, director \nNoè
	 Rodrigo Gisbert e Adélaïde Ferrière\, percusión\n \nPROGRAMA\nCometa: Enc
	arga a Francisco Domínguez. Estrea absoluta. \nRebecca Saunders: VOID. Est
	rea en España \nFrancisco Guerrero: Coma Berenices\nFrancisco Domínguez ab
	re o concerto coa súa Cometa\, introducindo un programa que conecta distin
	tos xeitos de entender a creación contemporánea. Coa súa especial lucidez\
	, a londiniense Rebecca Saunders explora o papel da música nunha sociedade
	 en constante conflito\, da que quere resaltar a humanidade que nos envolv
	e. Inspirada en Textos para nada de Beckett\, VOID debuxa\, a través dunha
	 ampla paleta orquestral\, a flutuación entre ruído e son. A morte prematu
	ra de Francisco Guerrero\, acaecida en 1997 cando tiña 47 anos\, deixou en
	 suspenso unha das máis orixinais formas de achegarse á música a partir da
	s matemáticas. Coma Berenices está considerada a obra máis importante do c
	ompositor xienense\; composta un ano antes da súa morte\, a peza inspírase
	 literalmente nas proporcións matemáticas existentes nesta constelación si
	tuada ao oeste de Leo.\n\nEn colaboración co Festival RESIS
URL:https://www.compostelacultura.gal/espectaculos/evento/rfg-%C2%B7-fendas
	-do-silencio
LOCATION:Avenida do Burgo das Nacións<br>\n15705 Santiago de Compostela
X-MICROSOFT-CDO-BUSYSTATUS:BUSY
DURATION:PT90M
END:VEVENT
END:VCALENDAR
