BEGIN:VCALENDAR
VERSION:2.0
CALSCALE:GREGORIAN
PRODID:adamgibbons/ics
METHOD:PUBLISH
X-PUBLISHED-TTL:PT1H
BEGIN:VEVENT
UID:FgnxpscxD-LYqWc6TeN0N
SUMMARY:FAMILIA NIJINSKA
DTSTAMP:20260422T183011Z
DTSTART:20261230T203000Z
DESCRIPTION:FAMILIA NIJINSKA\nIdade recomendada: Público adulto\nDuración. 
	75 min\nLingua Galego\nPosfunción tras o pase\n \nUnha conferencia escénic
	a do colectivo VACAburra\, un espectáculo poético e rebelde a través da hi
	storia dunha familia de bailaríns e bailarinas que revolucionaron a danza 
	de inicios do século XX entre outras personaxes fascinantes e seres fantás
	ticos. \nA peza transita entre a palabra\, o corpo e o trazo\, propoñendo 
	unha ollada crítica sobre os relatos hexemónicos da historia da arte\, o e
	stigma da saúde mental e o esquecemento das mulleres creadoras. FAMILIA NI
	JINSKA non é só unha narración biográfica\, senón unha interrogación viva 
	sobre como se constrúe a memoria e quen decide que corpos e voces son dign
	as de ser recordadas.\n\n(Foto: Rosiña Rojo)
URL:https://www.compostelacultura.gal/espectaculos/evento/familia-nijinska
LOCATION:Rúa Nova\, 21<br>\n15705 Santiago de Compostela
X-MICROSOFT-CDO-BUSYSTATUS:BUSY
DURATION:PT60M
END:VEVENT
END:VCALENDAR
