BEGIN:VCALENDAR
VERSION:2.0
CALSCALE:GREGORIAN
PRODID:adamgibbons/ics
METHOD:PUBLISH
X-PUBLISHED-TTL:PT1H
BEGIN:VEVENT
UID:Tz7v_2bzEu60ZE_Owl-Up
SUMMARY:BMSC · UNHA FIESTRA Ó PRESENTE
DTSTAMP:20260422T183011Z
DTSTART:20261230T120000Z
DESCRIPTION:Temporada 2025/26: Escoita\, sinte e desfruta\nConcerto: Unha f
	iestra ó presente\nBANDA MUNICIPAL DE SANTIAGO DE COMPOSTELA\nIV CONCURSO 
	DE DIRECCIÓN DA BMSC\nDirectores finalistas do concurso\nPROGRAMA\nFrank C
	ogollos: Galicia\, onde o mar comeza *(estrea absoluta)\nFco. José Villaes
	cusa: Lucus Augusti *(estrea absoluta)\nJuan Núñez Seoane: Camiño dos arri
	eiros *(estrea absoluta)\nLeón Durán: Ao xeito de foliada\nÓscar Musso: So
	ns da Terra\nAlejandro Piñeiro: Rafael e Chuna\nSINOPSE\nOs novos talentos
	 da dirección teñen nesta edición a oportunidade de traballar nun repertor
	io de estrea absoluta\, abrindo horizontes e coñecendo de primeira man ós 
	compositores. Un diálogo aberto entre creadores e intérpretes entran en si
	ntonía\, a través da música galega\, do noso folclore e da nosa cultura ma
	is contemporánea.
URL:https://www.compostelacultura.gal/espectaculos/evento/bmsc-%C2%B7-unha-
	fiestra-%C3%B3-presente
LOCATION:Rúa Nova\, 21<br>\n15705 Santiago de Compostela
X-MICROSOFT-CDO-BUSYSTATUS:BUSY
DURATION:PT60M
END:VEVENT
END:VCALENDAR
