BEGIN:VCALENDAR
VERSION:2.0
CALSCALE:GREGORIAN
PRODID:adamgibbons/ics
METHOD:PUBLISH
X-PUBLISHED-TTL:PT1H
BEGIN:VEVENT
UID:n0JgGrXpoLSzQMm8YrGfS
SUMMARY:GRAN GALA DO CIRCO
DTSTAMP:20260422T183011Z
DTSTART:20261230T180000Z
DESCRIPTION:GRAN GALA DO CIRCO\nPISTACATRO  \nIdade recomendada: Todos os p
	úblicos\nDuración: 90 min\nLingua: galego\nCoa Gran Gala do Circo celébras
	e no Auditorio de Galicia o Día Internacional do Circo. Este espectáculo d
	e variedades\, coordinado por Pistacatro\, reúne en escena unha espectacul
	ar selección de artistas locais e internacionais nunha gran festa pensada 
	para o goce do público grande e miúdo. Malabares\, acrobacias\, humor\, eq
	uilibrio e maxia súmanse nun evento único que transforma o Auditorio nunha
	 auténtica carpa chea de ilusión. Non esperes que cho conten: vén vivir en
	 directo o espectáculo máis grande do mundo. Pasen e vexan!
URL:https://www.compostelacultura.gal/espectaculos/evento/gran-gala-do-circ
	o-1
LOCATION:Avenida do Burgo das Nacións<br>\n15705 Santiago de Compostela
X-MICROSOFT-CDO-BUSYSTATUS:BUSY
DURATION:PT90M
END:VEVENT
END:VCALENDAR
