BEGIN:VCALENDAR
VERSION:2.0
CALSCALE:GREGORIAN
PRODID:adamgibbons/ics
METHOD:PUBLISH
X-PUBLISHED-TTL:PT1H
BEGIN:VEVENT
UID:MCEV88wSaAxMvnOuNJr_t
SUMMARY:FIRMAMENTO
DTSTAMP:20260422T183011Z
DTSTART:20261230T203000Z
DESCRIPTION:LA VERONAL\nIdade recomendada: >12 anos\nDuración: 75 min\nLing
	ua: Inglés (sobretitulado)\nNo vasto universo da existencia humana desprég
	ase un espectro infinito de posibilidades\, poboado de escenarios imaxinad
	os e narrativas que representan unha exploración profunda da nosa identida
	de e a conexión co mundo que nos rodea. \nFIRMAMENTO é unha reflexión ou u
	n reflexo sobre o imaxinario que nos define\, unha mirada á etapa vital na
	 que construímos os nosos soños\, na que escollemos abrir unhas portas que
	 nos levaron até o presente\, tanto individual como colectivamente. \nPres
	éntase como unha invitación para todos os públicos a mirar cara atrás non 
	soamente con nostalxia senón cunha comprensión máis ampla do noso traxecto
	 vital. Nunha sociedade que demanda pragmatismo e velocidade\, FIRMAMENTO 
	proponse como un espazo onde deternos a observar e reconectar coas nosas p
	reguntas máis esenciais. \nNo formal\, é o reflexo dun soño recorrente\, o
	nde non se distinguen os límites da percepción\, onde o real e o imaxinado
	 converxen nun inquietante novo mundo\, creando unha incrible tensión entr
	e os distintos elementos que a compoñen. \nOs personaxes que habitan FIRMA
	MENTO móvense nun labirinto de percepcións e realidades cambiantes. Nun es
	pazo que muta\, repleto de detalles\, gateiras e artificios\; un vivo refl
	exo da mente humana en ebulición\, chea de posibilidades\, contradicións e
	 misterios. \n\nFirmamento é unha produción de La Veronal en coprodución c
	on:\nGrec 2023 Festival de Barcelona\, Institut de Cultura Ajuntament de B
	arcelona\, Oriente Occidente Dance Festival\, Centro de Cultura Contemporá
	nea Condeduque\, Mercat de les Flors\, Temporada Alta – Festival internaci
	onal de Catalunya\, Girona/Salt\, Les Théâtres de la Ville de Luxembourg\,
	 Chaillot Théâtre National de la Danse\, Festival Equilibrio - Fondazione 
	Musica per Roma\, Hessisches Staatsballett in the frame of Tanzplattform R
	hein- Main\, Triennale Milano\nCoa colaboración de Graner – Fàbriques deCr
	eació e Teatre L’Artesà\nCo apoio do INAEM–Ministerio de Cultura de España
	 e ICEC–Departament de Cultura da Generalitat de Catalunya
URL:https://www.compostelacultura.gal/espectaculos/evento/firmamento
LOCATION:Avenida do Burgo das Nacións<br>\n15705 Santiago de Compostela
X-MICROSOFT-CDO-BUSYSTATUS:BUSY
DURATION:PT75M
END:VEVENT
END:VCALENDAR
