BEGIN:VCALENDAR
VERSION:2.0
CALSCALE:GREGORIAN
PRODID:adamgibbons/ics
METHOD:PUBLISH
X-PUBLISHED-TTL:PT1H
BEGIN:VEVENT
UID:Xz6VuHDkxXro-dsi5Moh_
SUMMARY:UBASUTE
DTSTAMP:20260422T183011Z
DTSTART:20261230T203000Z
DESCRIPTION:BERROBAMBÁN\nIdade recomendada: a partir de 4 anos\nDuración: 5
	0 min\nLingua: Galego\nPosfunción: o 23 de abril tras o pase\n“Ubasute” é 
	un termo xaponés que significa literalmente “abandono dunha anciá” e que s
	e refire ao presunto costume de deixar nunha montaña ou nun lugar afastado
	 un parente vello ou enfermo. Existen referencias dese costume na tradició
	n oral de numerosas culturas\, pero ningunha proba.\nUBASUTE é o máis rece
	nte texto da dramaturga galega Paula Carballeira logo do seu recoñecemento
	 co Premio Nacional de Literatura Dramática no ano 2023. Publicado pola Ed
	itorial Galaxia foi recoñecida pola prestixiosa Revista Babelia como un do
	s 5 mellores textos editados en galego no 2024. Así mesmo\, a peza é actua
	lmente finalista na categoría de Teatro dos Premios Follas Novas do Libro 
	Galego.\nUBASUTE  é unha peza de aparencia simple máis de difícil clasific
	ación que conxuga xéneros e abre enigmas para colocar o foco de atención n
	a reflexión ao redor do abandono. De forma sutil e lúdica\, Paula Carballe
	ira toca temas de profunda gravidade a través dun xoguete escénico livián 
	que brinda a posibilidade de emprender múltiples viaxes: a de acompañar o 
	tránsito de cada personaxe e a de emprender unha viaxe interior na que cad
	a espectadora poida recoñecerse mentres se abandona ao que queda implícito
	 entre liñas.
URL:https://www.compostelacultura.gal/espectaculos/evento/ubasute
LOCATION:Rúa Nova\, 21<br>\n15705 Santiago de Compostela
X-MICROSOFT-CDO-BUSYSTATUS:BUSY
DURATION:PT60M
END:VEVENT
END:VCALENDAR
