BEGIN:VCALENDAR
VERSION:2.0
CALSCALE:GREGORIAN
PRODID:adamgibbons/ics
METHOD:PUBLISH
X-PUBLISHED-TTL:PT1H
BEGIN:VEVENT
UID:qLVNig-a135WCCoEbmSzp
SUMMARY:RFG · MARES DE HISTORIAS
DTSTAMP:20260422T183011Z
DTSTART:20261230T203000Z
DESCRIPTION:REAL FILHARMONÍA DE GALICIA \nPaul Daniel\, director\nCoa parti
	cipación do alumnado da EAEM\n \nPROGRAMA\nCometa: Encarga a Gabriel Erkor
	eka. Estrea Absoluta\nFernando Buide: Mar ao Norde \nBenjamin Britten: Fou
	r Sea Interludes da ópera Peter Grimes\, Op. 33a \nJean Sibelius: Sinfonía
	 núm. 3 en Do maior\, Op.52\nUn concerto con estéticas diversas comeza coa
	 obra de Gabriel Erkoreka\, que nos achega a Mar ao Norde\, composta polo 
	santiagués Fernando Buide en 2014 como homenaxe ao primeiro poemario de Ál
	varo Cunqueiro. A obra é case un concerto para seis violonchelos e orquest
	ra\, que percorren xuntos unha historia simbólica marcada polo mar\, a noi
	te e a inmensidade. Tamén no mar vive Four Sea Interludes\, de Benjamin Br
	itten\, o principal compositor inglés do século XX. Pacifista e dono dun e
	stilo persoal\, é recoñecido polo uso expresivo da tonalidade\, equilibrio
	 formal e fonda sensibilidade dramática\, xa visible nesta obra\, extraída
	 da ópera Peter Grimes. A Sinfonía núm. 3 de Sibelius\, a máis clásica das
	 súas sete\, consta de tres movementos que fan referencia ao nacemento\, m
	orte e resurrección de Cristo.\n\nÁs 19.45 h\, Conversando con... Paul Dan
	iel na Sala Mozart.
URL:https://www.compostelacultura.gal/espectaculos/evento/rfg-%C2%B7-mares-
	de-historias
LOCATION:Avenida do Burgo das Nacións<br>\n15705 Santiago de Compostela
X-MICROSOFT-CDO-BUSYSTATUS:BUSY
DURATION:PT90M
END:VEVENT
END:VCALENDAR
