BEGIN:VCALENDAR
VERSION:2.0
CALSCALE:GREGORIAN
PRODID:adamgibbons/ics
METHOD:PUBLISH
X-PUBLISHED-TTL:PT1H
BEGIN:VEVENT
UID:N_qTpTxevwMYhLp8HFToQ
SUMMARY:THE SOUNDTRACK OF OUR LIVES
DTSTAMP:20260422T183011Z
DTSTART:20261231T213000Z
DESCRIPTION:The Soundtrack of Our Lives formouse en Gotemburgo a mediados d
	os 90 como unha especie de supergrupo con membros de Union Carbide Product
	ions\, Nymphet Noodlers\, Whipped Cream e Mindjive. O sinxelo «Instant Rep
	eater ’99» converteuse nun éxito en Suecia en 1996 e o seu álbum debut «We
	lcome to the Infant Freebase» gañou un Grammis sueco como Artista Revelaci
	ón do Ano.\n\ninstagram.com/tsool_official\n\nopen.spotify.com
URL:https://salacapitol.entradas.plus/entradas/es/entradas-musica-the-sound
	track-of-our-lives-capitol
LOCATION:Rúa Concepción Arenal\, 5<br>\n15702 Santiago de Compostela
X-MICROSOFT-CDO-BUSYSTATUS:BUSY
DURATION:PT
END:VEVENT
END:VCALENDAR
