BEGIN:VCALENDAR
VERSION:2.0
CALSCALE:GREGORIAN
PRODID:adamgibbons/ics
METHOD:PUBLISH
X-PUBLISHED-TTL:PT1H
BEGIN:VEVENT
UID:VrHKi4oQZ8ej7dPwC4lT0
SUMMARY:091
DTSTAMP:20260422T183011Z
DTSTART:20261231T210000Z
DESCRIPTION:A lendaria banda de rock granadino \, 091 \, está de volta ao g
	rande. Seis anos despois da súa última gravación\, os míticos 091 anunciar
	on o lanzamento de «No tiene Sentido Escapar» \, o seu esperado novo singl
	e.\n\n091oficial.es\n\nopen.spotify.com
URL:https://www.enterticket.es/eventos/091-en-santiago-de-compostela-843232
LOCATION:Rúa Concepción Arenal\, 5<br>\n15702 Santiago de Compostela
X-MICROSOFT-CDO-BUSYSTATUS:BUSY
DURATION:PT
END:VEVENT
END:VCALENDAR
