BEGIN:VCALENDAR
VERSION:2.0
CALSCALE:GREGORIAN
PRODID:adamgibbons/ics
METHOD:PUBLISH
X-PUBLISHED-TTL:PT1H
BEGIN:VEVENT
UID:D6vnqZQF58vAWIM2FEQ0h
SUMMARY:OBK
DTSTAMP:20260422T183011Z
DTSTART:20261231T210000Z
DESCRIPTION:OBK celebra 35 años de trayectoria con “Vértigo Tour”\, una gir
	a muy especial que recorrerá las principales ciudades de España y donde el
	 grupo más importante de la música electrónica de este país presentará los
	 temas de su nuevo álbum\, incluido su exitoso primer lanzamiento «Maldita
	 Mujer».Con “Vértigo Tour”\, OBK invita a su público a reencontrarse con l
	os grandes éxitos que están marcando a varias generaciones ya disfrutar de
	 una historia llena de emociones y energía sobre el escenario\, en una gir
	a que promete convertirse en uno de los grandes acontecimientos musicales 
	del año.\n\nobkmusic.net\n\nopen.spotify.com
URL:https://www.enterticket.es/eventos/concierto-obk-santiago-de-compostela
	-sala-capitol-vier-254434
LOCATION:Rúa Concepción Arenal\, 5<br>\n15702 Santiago de Compostela
X-MICROSOFT-CDO-BUSYSTATUS:BUSY
DURATION:PT
END:VEVENT
END:VCALENDAR
