BEGIN:VCALENDAR
VERSION:2.0
CALSCALE:GREGORIAN
PRODID:adamgibbons/ics
METHOD:PUBLISH
X-PUBLISHED-TTL:PT1H
BEGIN:VEVENT
UID:RU6J7bOhmsD0eJT9KmTJh
SUMMARY:EDWYN COLLINS
DTSTAMP:20260422T183011Z
DTSTART:20261231T200000Z
DESCRIPTION:Tras máis de 40 anos ao pé do canón do rock’n’roll\, Edwyn desp
	ídese dos escenarios españois!\nEsta será a súa última xira por España \, 
	e o 10 de maio fará unha parada moi especial na Sala Capitol .\nDesde aque
	l primeiro concerto en 1977 con The Nu-Sonics \, compartindo cartel con Th
	e Backstabbers \, The Skids e Steel Pulse no mítico Satellite City de Glas
	gow\, ata hoxe… Edwyn mantivo viva a chama do rock cunha traxectoria única
	.\n\nedwyncollins.com\n\nopen.spotify.com
URL:https://salacapitol.entradas.plus/entradas/edwyncollins-capitol
LOCATION:Rúa Concepción Arenal\, 5<br>\n15702 Santiago de Compostela
X-MICROSOFT-CDO-BUSYSTATUS:BUSY
DURATION:PT
END:VEVENT
END:VCALENDAR
