BEGIN:VCALENDAR
VERSION:2.0
CALSCALE:GREGORIAN
PRODID:adamgibbons/ics
METHOD:PUBLISH
X-PUBLISHED-TTL:PT1H
BEGIN:VEVENT
UID:vJVAB-_YezzCTdMgwxiCR
SUMMARY:REBELIOM DO INFRAMUNDO
DTSTAMP:20260422T183011Z
DTSTART:20261231T203000Z
DESCRIPTION:Rebeliom do Inframundo presentan o seu novo traballo ‘Orgulho’.
	\nNacidos nas rúas e nos locais de ensaio de Galiza\, Rebeliom do Inframun
	do leva máis dunha década facendo da música unha trincheira e unha celebra
	ción. Nervo\, Malvares\, Frank Huxley\, Busto e DJ Pol forman unha alianza
	 que vai máis alá do rap: é unha actitude\, unha maneira de entender o mun
	do.\nO seu son bebe do rap hardcore e da electrónica\, pero tamén das raíc
	es galegas e da forza dun pobo que nunca baixa a cabeza. Cada tema é un re
	trato entre o amor e a rabia\, entre o orgullo e a ferida.\nDende Caladas 
	Reflexivas ata Amor ou Barbárie\, pasando por Lume e Rebeliom e Ilegal\, a
	 banda medrou sen traizoar o seu camiño. Hoxe\, Rebeliom non é só unha ref
	erencia musical: é un símbolo dunha xeración que loita\, crea e berra sen 
	pedir permiso.\n\ninstagram.com/rebeliomdoinframundo\n\nopen.spotify.com
URL:https://woutick.com/es/entradas/rebeliom-do-inframundo-santiago-de-comp
	ostela-orgulho-tour-2?direct=true
LOCATION:Rúa Concepción Arenal\, 5<br>\n15702 Santiago de Compostela
X-MICROSOFT-CDO-BUSYSTATUS:BUSY
DURATION:PT
END:VEVENT
END:VCALENDAR
