BEGIN:VCALENDAR
VERSION:2.0
CALSCALE:GREGORIAN
PRODID:adamgibbons/ics
METHOD:PUBLISH
X-PUBLISHED-TTL:PT1H
BEGIN:VEVENT
UID:ILmh2FktVivld7VXnT0Rv
SUMMARY:APHONNIC
DTSTAMP:20260422T183011Z
DTSTART:20261231T203000Z
DESCRIPTION:Despois de xirar por toda a península nestes dous anos de prese
	ntación de #crema\, queremos xuntar e unificar nunha sala a todo o noso pú
	blico de Galicia. Haberá convidados de luxo para crear unha noite diferent
	e e de pura festa. Será a única data en sala deste 2026 que vén\, esperámo
	svos a todxs.\n\naphonnic.com\n\nopen.spotify.com
URL:https://salacapitol.entradas.plus/entradas/es/aphonnic-capitol
LOCATION:Rúa Concepción Arenal\, 5<br>\n15702 Santiago de Compostela
X-MICROSOFT-CDO-BUSYSTATUS:BUSY
DURATION:PT
END:VEVENT
END:VCALENDAR
