BEGIN:VCALENDAR
VERSION:2.0
CALSCALE:GREGORIAN
PRODID:adamgibbons/ics
METHOD:PUBLISH
X-PUBLISHED-TTL:PT1H
BEGIN:VEVENT
UID:aO_kmPaql03KSxRE8-Njb
SUMMARY:Visita guiada á exposición «As estacións do ano na arte galega dos 
	séculos XX e XXI» no Museo Centro Gaiás
DTSTAMP:20260422T183014Z
DTSTART:20261231T110000Z
DESCRIPTION:O venres\, 8 de maio\, ás 11.00h o Ateneo de Santiago realizará
	 unha visita guiada á exposición «As estacións do ano na arte galega dos s
	éculos XX e XXI»\, situada no Museo Centro Gaiás.\n\nAs prazas son limitad
	as polo que todo aquel que queira participar deberá inscribirse no enderez
	o [ateneo@ateneodesantiago.gal](mailto:ateneo@ateneodesantiago.gal) **ata 
	o xoves\, 23 de abril**\, admitíndose unicamente a inscrición dun máximo d
	e dúas persoas en cada solicitude. No caso de inscribirse máis persoas que
	 prazas dispoñibles\, as admisións realizaranse mediante un sorteo\, que s
	e levará a cabo o luns\, 27 de abril\, ás 12h no local social do Ateneo\, 
	tendo preferencia de admisión os/as ateneístas. \n\nComisariada pola artis
	ta e investigadora\, Mónica Alonso\, esta exposición de arte contemporánea
	 singular reúne máis de 80 pezas de 63 artistas\, dende grandes nomes hist
	óricos como Castelao\, María Antonia Dans\, Eugenio Granell\, Laxeiro\, Ur
	bano Lugrís ou Seoane e artistas de recoñecida traxectoria como o premio n
	acional de fotografía Manuel Vilariño\, a fotógrafa Mar Caldas\, o esculto
	r Manolo Paz e os pintores Antón Lamazares\, Berta Cáccamo ou Menchu Lamas
	\, ata as xeracións máis novas que están a gañar recoñecemento a nivel est
	atal e internacional\, representadas por Mar Ramón Soriano ou Sergio Marey
	\, entre outros moitos. Dividido en catro apartados correspondentes a cada
	 estación\, o deseño está concibido para activar as emocións e á vez focal
	izar a atención nas obras de arte\, seguindo os principios das investigaci
	óns ao redor da neuroestética e a neuroarquitectura\, que abordan como o s
	er humano percibe\, procesa e sente a arte e a beleza a nivel neurolóxico 
	e psicolóxico.
LOCATION:Praza de Salvador Parga\, 4\, 2º<br>\n15704 Santiago de Compostela
X-MICROSOFT-CDO-BUSYSTATUS:BUSY
DURATION:PT
END:VEVENT
END:VCALENDAR
