BEGIN:VCALENDAR
VERSION:2.0
CALSCALE:GREGORIAN
PRODID:adamgibbons/ics
METHOD:PUBLISH
X-PUBLISHED-TTL:PT1H
BEGIN:VEVENT
UID:r0fxk-lHVlsjP2Iei-7UC
SUMMARY:Proxección da película «A soidade do corredor de fondo» de Tony Ric
	hardson
DTSTAMP:20260422T183013Z
DTSTART:20261230T190000Z
DESCRIPTION:O mércores\, 29 de abril\, ás 19.00h o Ateneo de Santiago ten p
	rogramada na sede de Afundación (Rúa do Vilar\, 19\, de Santiago de Compos
	tela) a proxección da película «A soidade do corredor de fondo» (_The lone
	liness of the long distance runner_) de Tony Richardson. Esta proxección\,
	 comprendida dentro da V Mostra Internacional de Cine e Educación (CINEDUC
	A)\, estará presentada e comentada por Fernando Redondo\, Profesor de Comu
	nicación audiovisual da USC.\n\n_**A soidade do corredor de fondo**_ (_The
	 loneliness of the long distance runner_)  \nDirector: Tony Richardson  \n
	Reino Unido\, 1962  \nColin Smith é un mozo de clase obreira que vive nos 
	arredores de Nottingham. Un día comete un roubo nunha panadería e é enviad
	o a un reformatorio. Unha vez alí comeza a correr e\, grazas ás súas cuali
	dades como corredor de fondo\, vai gañando postos na institución penitenci
	aria. Durante os seus entrenamentos reflexiona sobre a súa vida anterior e
	 comeza a comprender que se atopa nunha situación privilexiada.\n\n**Ferna
	ndo Redondo Neira**\, Licenciado en Ciencias da Información pola Universid
	ade do País Vasco (UPV) e Doutor pola Universidade de Santiago de Composte
	la (USC)\, é Profesor da área de Comunicación audiovisual na Facultade de 
	Ciencias da Comunicación da USC. Autor dos libros _Carlos Velo. Itinerario
	s do documental nos anos trinta_ e _Os amorodos de Bergman_ (Premio Ramón 
	Piñeiro de Ensaio 2018)\, é coautor de _Galicia en NO-DO: Comunicación\, c
	ultura y sociedad_ e Coordinador-editor do volume _Cidadanía e documental_
	. Premio María Luz Morales de Ensaios Cinematográficos e Premio Manuel Rei
	móndez Portela de Xornalismo\, forma parte da Asociación Española de Histo
	riadores de Cine (AEHC)\, do Centro de Estudos Fílmicos da USC e da Asocia
	ción Galega de Investigadores/as da Comunicación.
LOCATION:Praza de Salvador Parga\, 4\, 2º<br>\n15704 Santiago de Compostela
X-MICROSOFT-CDO-BUSYSTATUS:BUSY
DURATION:PT
END:VEVENT
END:VCALENDAR
