BEGIN:VCALENDAR
VERSION:2.0
CALSCALE:GREGORIAN
PRODID:adamgibbons/ics
METHOD:PUBLISH
X-PUBLISHED-TTL:PT1H
BEGIN:VEVENT
UID:PN-vfdy70iF1_tDwwbqhl
SUMMARY:Proxección da película «El Bola» de Achero Mañas
DTSTAMP:20260422T183013Z
DTSTART:20261230T190000Z
DESCRIPTION:O martes\, 28 de abril\, ás 19.00h o Ateneo de Santiago ten pro
	gramada na sede de Afundación (Rúa do Vilar\, 19\, de Santiago de Composte
	la) a proxección da película «El bola» de Achero Mañas. Esta proxección\, 
	comprendida dentro da V Mostra Internacional de Cine e Educación (CINEDUCA
	)\, estará presentada e comentada por José Manuel González Herrán\, Catedr
	ático de Literatura Española e Profesor emérito da USC.\n\n_**El Bola**_  
	\nDirector: Achero Mañas  \nEspaña\, 2000  \nEl Bola é un rapaz de 12 anos
	 que vive nunha atmosfera violenta e sórdida. A súa situación familiar\, q
	ue oculta avergonzado\, incapacítao para relacionarse e comunicarse con ou
	tros rapaces. A chegada dun novo compañeiro á escola bríndalle a oportunid
	ade de descubrir a amizade e unha realidade familiar completamente distint
	a. Todo isto daralle a forza necesaria para aceptar e facerlle fronte á sú
	a propia situación.\n\n**José Manuel González Herrán**\, Catedrático de Li
	teratura Española e Profesor Emérito da Universidade de Santiago de Compos
	tela\, é conferenciante e Profesor invitado en Universidades españolas e e
	stranxeiras. Ten publicado ou editado varias monografías\, edicións crític
	as e anotadas\, volumes colectivos\, etc. sobre autores españoles dos sécu
	los XVIII\, XIX e XX. Entre 1994 e 2016 dirixiu na USC un grupo de investi
	gación encol Emilia Pardo Bazán. É membro dos consellos editoriais e comit
	és científicos de revistas e editoriais da súa especialidade\, Director do
	 Boletín da Biblioteca de Menéndez Pelayo\, Académico correspondente da Re
	al Academia Galega e Presidente da Sociedade de Literatura Española do séc
	ulo XIX (SLESXIX).
LOCATION:Praza de Salvador Parga\, 4\, 2º<br>\n15704 Santiago de Compostela
X-MICROSOFT-CDO-BUSYSTATUS:BUSY
DURATION:PT
END:VEVENT
END:VCALENDAR
