BEGIN:VCALENDAR
VERSION:2.0
CALSCALE:GREGORIAN
PRODID:adamgibbons/ics
METHOD:PUBLISH
X-PUBLISHED-TTL:PT1H
BEGIN:VEVENT
UID:chWrRWgST3mQCSJuLI3Ua
SUMMARY:Conferencia «Vida e obra fotográfica de José Suárez» de Xosé Luís S
	uárez Canal
DTSTAMP:20260422T183013Z
DTSTART:20261230T193000Z
DESCRIPTION:O luns\, 27 de abril\, ás 19.30h o Ateneo de Santiago ten progr
	amada na Rúa do Vilar\, 19\, de Santiago de Compostela\, unha conferencia 
	para conmemorar o Día das Artes Galegas\, titulada «Vida e obra fotográfic
	a de José Suárez»\, que estará impartida por Xosé Luís Suárez Canal\, prof
	esor da Facultade de Ciencias da Comunicación da USC.\n\nXosé Luís Suárez 
	Canal (Allariz\, 1946)\, parente do escritor Marcial Suárez e sobriño do f
	otógrafo José Suárez\, é Licenciado en Filosofía e Letras e en Filoloxía F
	rancesa\, catedrático en ensino secundario e profesor asociado da Facultad
	e de Ciencias da Comunicación de Santiago de Compostela. Xunto con Manuel 
	Sendón\, crean o Centro de Estudos Fotográficos de Vigo (CEF) en 1985 e di
	rixen a Sala dos Peiraos (1985-1991) e o proxecto Vigovisións (1986-2000)\
	, así como organizan a Fotobienal de Vigo (1984-2000)\, na que exercen com
	o comisarios\, labor que realizan noutras destacadas mostras. Tamén de man
	eira conxunta publican monografías de fotógrafos históricos galegos como _
	Ramón Caamaño_\, _Luis Rueda_\, _José Suárez_\, _Arquivo Pacheco_ ou _Arqu
	ivo Sarabia_\, que complementan cunha mostra\, e realizan a edición das co
	leccións Álbum e Do Trinque. A título individual\, publica _Allariz_\, _O 
	Viño_ e _O mundo invisíbel_. Comeza a expoñer a súa obra fotográfica na 1ª
	 Fotobienal de Vigo en 1984\, que el mesmo organiza\, e despois en diversa
	s mostras e eventos colectivos en Madrid\, Vigo\, A Coruña\, Lorient (Fran
	cia)\, Xenebra (Suíza)\, Coimbra\, Lisboa ou O Porto (Portugal). A súa pri
	meira mostra individual realízaa na Galería AFCA de Braga (Portugal) en 19
	87\, á que lle seguen outras individuais en galerías e salas de cidades co
	mo A Coruña ou Vigo.
LOCATION:Praza de Salvador Parga\, 4\, 2º<br>\n15704 Santiago de Compostela
X-MICROSOFT-CDO-BUSYSTATUS:BUSY
DURATION:PT
END:VEVENT
END:VCALENDAR
